BEGIN:VCALENDAR
VERSION:2.0
PRODID:-//3nity.com//3nity CMS//EN
BEGIN:VEVENT
SUMMARY:Men of Prayer/ Purpose /& Power - MP3
UID:2026-07-18-1193587@centerofhopecogic.org
SEQUENCE:0
STATUS:CONFIRMED
DTSTART:20260523T100000
DTEND:20260523T113000
DTSTAMP:20161222T120000
DESCRIPTION:"MP3" / Just-4-Men \n  Men Topics \n   Men Ideas \n    Men Results
URL:http://centerofhopecogic.org
END:VEVENT
END:VCALENDAR
